BEGIN:VCALENDAR
VERSION:2.0
PRODID:icalendar-ruby
CALSCALE:GREGORIAN
METHOD:PUBLISH
BEGIN:VEVENT
DTSTAMP:20260421T140206Z
UID:19-580272@smokymountainchurch.com
DTSTART:20260502T160000Z
DTEND:20260502T180000Z
CLASS:PUBLIC
CREATED:20260420T170500
DESCRIPTION:The SMCC's Men's Ministry is inviting all of SMCC's ladies to a
  free car wash on Saturday\, May 2nd\; and to enjoy some ice cream and pie
  while you wait for your car to be washed!
LAST-MODIFIED:20260420T170500
LOCATION:Smoky Mountain Christian Church
SUMMARY:Moms Love A Clean Car
URL;VALUE=URI:https://smokymountainchurch.com/events/moms-love-a-clean-car/
 2026-05-02
ATTACH;FILENAME=Moms-Love-Clean-Cars.jpg;FMTTYPE=image/jpeg:https://dq5pwpg
 1q8ru0.cloudfront.net/2025/04/29/17/09/15/75286b32-c505-4928-afa7-69010290
 37d4/Moms-Love-Clean-Cars.jpg
END:VEVENT
END:VCALENDAR
