BEGIN:VCALENDAR
VERSION:2.0
PRODID:icalendar-ruby
CALSCALE:GREGORIAN
METHOD:PUBLISH
BEGIN:VEVENT
DTSTAMP:20260421T140135Z
UID:51-580277@smokymountainchurch.com
DTSTART:20260506T223000Z
DTEND:20260506T233000Z
CLASS:PUBLIC
CREATED:20260420T174614
DESCRIPTION:Everyone is invited to our next 1st Wednesday Meal (Taco Bar).\
 nWednesday\, May 6th @ 6:30 p.m.\nEveryone is encouraged to come and bring
  your favorite Mexican side dish and/or dessert to share.
LAST-MODIFIED:20260420T174614
LOCATION:SMCC Fellowship Hall
SUMMARY:First Wednesday Meal
URL;VALUE=URI:https://smokymountainchurch.com/events/first-wednesday-meal--
 50/2026-05-06
ATTACH;FILENAME=1st-Wednesday-Meal-Pic.jpg;FMTTYPE=image/jpeg:https://dq5pw
 pg1q8ru0.cloudfront.net/2026/04/20/21/46/14/ba4c9a55-48d6-4a4c-8cb6-9374de
 9bcc94/1st-Wednesday-Meal-Pic.jpg
END:VEVENT
END:VCALENDAR
